BEGIN:VCALENDAR
VERSION:2.0
PRODID:-//موقع التعليم العالي والبحث العلمي والابتكار - ECPv5.3.2.1//NONSGML v1.0//EN
CALSCALE:GREGORIAN
METHOD:PUBLISH
X-WR-CALNAME:موقع التعليم العالي والبحث العلمي والابتكار
X-ORIGINAL-URL:https://enssup.almarrakchia.net
X-WR-CALDESC:Events for موقع التعليم العالي والبحث العلمي والابتكار
BEGIN:VTIMEZONE
TZID:Europe/Paris
BEGIN:DAYLIGHT
TZOFFSETFROM:+0100
TZOFFSETTO:+0200
TZNAME:CEST
DTSTART:20210328T010000
END:DAYLIGHT
BEGIN:STANDARD
TZOFFSETFROM:+0200
TZOFFSETTO:+0100
TZNAME:CET
DTSTART:20211031T010000
END:STANDARD
END:VTIMEZONE
BEGIN:VEVENT
DTSTART;VALUE=DATE:20210824
DTEND;VALUE=DATE:20210829
DTSTAMP:20260421T172419
CREATED:20210817T223851Z
LAST-MODIFIED:20210817T224857Z
UID:6942-1629763200-1630195199@enssup.almarrakchia.net
SUMMARY:المهرجان الوطني للفنون الشعبية ابتداء من 24 غشت تحت شعار “أغاني وإيقاعات أبدية”.
DESCRIPTION:تحتضن مدينة مراكش، بين 24 و28 غشت المقبل، الدورة 51 من المهرجان الوطني للفنون الشعبية، وذلك تحت شعار “أغاني وإيقاعات أبدية”. \n \nوذكر بلاغ للمنظمين أن النسخة الحالية من المهرجان، المنظمة بمبادرة من جمعية الأطلس الكبير وبالتعاون مع وزارة الثقافة والشباب والرياضة، عقب الأزمة الصحية لكوفيد-19، تمثل أكثر من حملة ترويجية للمدينة الحمراء وللتراث الثقافي الوطني، لكونه يعد تحديا حقيقيا للزمان من خلال أصالة فنون الأجداد التي لا تزال أكثر حيوية على مر السنين. \n  وأضاف البلاغ أن دورة هذه السنة تحتفي بمرور أزيد من 50 سنة للفنون الشعبية في جميع جهات المملكة، حيث يتموقع كعمل ثقافي حقيقي للحفاظ على التراث المغربي. \n  وأشار إلى أن هذا الحدث الفني، المقام سنويا بقصر البديع كمعلمة تاريخية عريقة يعود تاريخها للقرن 16، يستدعي وعيا ثقافيا قويا، حيث تعيد الفنون الشعبية بأذهان المتتبعين إلى تجذر الانتماء، ويتعلق الأمر بثروة حقيقية عميقة للتراث المتعدد الأوجه الفنية والأبعاد الاجتماعية والروحية. \n  ويندرج المهرجان الوطني للفنون الشعبية، الذي يعد أقدم مهرجان بالمغرب، أحدث سنة 1960، في إطار الدينامية الهادفة إلى المحافظة وإنعاش ونقل التراث اللامادي بالمملكة، الممثل في فنونه الشعبية والتقليدية (الموسيقى والرقص ومهن الفن والمنتجات المحلية)، وذلك بجعل هذا المهرجان أرضية للتعبير واللقاءات والتبادل. \n  ويشكل المهرجان مناسبة لاكتشاف أصالة وتنوع الفولكلور المغربي وتراثه الشعبي في مختلف تجلياته الثقافية والفنية واكتشاف الموروث وصناعة العفوية والأصالة من خلال فنون تقليدية نابعة من مصادر حية لم تتقادم مع الزمن. \n  ويأتي تنظيم هذه الدورة من المهرجان لرد الاعتبار للتراث والموروث الثقافي اللامادي الوطني، من خلال تثمينه وتحصينه والمحافظة عليه لكي يلعب دوره الفعال في مخططات التنمية المستدامة التي تعرفها المملكة، وإعطاء دفعة قوية وحيوية جديدة لهذه التظاهرة. \n  وأصبح هذا المهرجان موعدا سنويا يرد فيه الاعتبار إلى المجموعات الشعبية المغربية التي ظلت تكافح لسنوات عديدة من أجل المحافظة على هذا الفن العريق المتوارث عبر العصور، والذي يعد شاهدا على أصالة الحضارة المغربية وأمجادها، والمساهمة في تنشيط المدينة الحمراء. \nو م ع
URL:https://enssup.almarrakchia.net/event/%d8%a7%d9%84%d9%85%d9%87%d8%b1%d8%ac%d8%a7%d9%86-%d8%a7%d9%84%d9%88%d8%b7%d9%86%d9%8a-%d9%84%d9%84%d9%81%d9%86%d9%88%d9%86-%d8%a7%d9%84%d8%b4%d8%b9%d8%a8%d9%8a%d8%a9-%d8%a7%d8%a8%d8%aa%d8%af%d8%a7/
LOCATION:مراكش\, مراكش\, مراكش\, Morocco
END:VEVENT
END:VCALENDAR